BEGIN:VCALENDAR
METHOD:PUBLISH
VERSION:2.0
CALSCALE:GREGORIAN
PRODID:-//NONSGML Sandhills Development\, LLC//NONSGML Sugar Calendar Fe
 eds v3.6.1//EN
X-WR-CALNAME:What If Your Next Promotion Wasn’t a Job\, It Was a Busin
 ess?
X-WR-CALDESC:Franchise Training Institute
X-WR-TIMEZONE:America/New_York
BEGIN:VTIMEZONE
TZID:America/New_York
BEGIN:STANDARD
TZOFFSETFROM:-0400
TZOFFSETTO:-0500
DTSTART:20251102T060000
TZNAME:EST
END:STANDARD
BEGIN:DAYLIGHT
TZOFFSETFROM:-0500
TZOFFSETTO:-0400
DTSTART:20260308T070000
TZNAME:EDT
END:DAYLIGHT
END:VTIMEZONE
BEGIN:VTIMEZONE
TZID:America/New_York
BEGIN:STANDARD
TZOFFSETFROM:-0400
TZOFFSETTO:-0500
DTSTART:20251102T060000
TZNAME:EST
END:STANDARD
BEGIN:DAYLIGHT
TZOFFSETFROM:-0500
TZOFFSETTO:-0400
DTSTART:20260308T070000
TZNAME:EDT
END:DAYLIGHT
END:VTIMEZONE
BEGIN:VEVENT
SUMMARY:What If Your Next Promotion Wasn’t a Job\, It Was a Business?
DESCRIPTION:A lot of high performers reach a point where another title a
 nd a slightly bigger paycheck just aren’t enough. You want more owners
 hip over your time\, your income\, and the kind of work you do.\nIn this
  live session\, you’ll get an inside look at a business model built ar
 ound expertise\, relationships\, and long-term value: franchise consulti
 ng. You’ll see how the income really works\, what day-to-day life look
 s like\, and whether this could be a realistic “next promotion” that
  actually belongs to you instead of your employer.
URL;VALUE=URI:https://franchiseti.com/events/what-if-your-next-promotion
 -wasnt-a-job-it-was-a-business/
UID:urn:uuid:052641c0-8095-4d5a-b44d-ab7f929c0957
STATUS:CONFIRMED
ORGANIZER:
DTSTAMP:20260421T113619Z
DTSTART;TZID=America/New_York:20260422T180000
DTEND;TZID=America/New_York:20260422T193000
END:VEVENT
END:VCALENDAR