BEGIN:VCALENDAR
METHOD:PUBLISH
VERSION:2.0
CALSCALE:GREGORIAN
PRODID:-//NONSGML Sandhills Development\, LLC//NONSGML Sugar Calendar Fe
 eds v3.6.1//EN
X-WR-CALNAME:Turn Your Experience Into a Scalable Consulting Business
X-WR-CALDESC:Franchise Training Institute
X-WR-TIMEZONE:America/New_York
BEGIN:VTIMEZONE
TZID:America/New_York
BEGIN:STANDARD
TZOFFSETFROM:-0400
TZOFFSETTO:-0500
DTSTART:20251102T060000
TZNAME:EST
END:STANDARD
BEGIN:DAYLIGHT
TZOFFSETFROM:-0500
TZOFFSETTO:-0400
DTSTART:20260308T070000
TZNAME:EDT
END:DAYLIGHT
END:VTIMEZONE
BEGIN:VTIMEZONE
TZID:America/New_York
BEGIN:STANDARD
TZOFFSETFROM:-0400
TZOFFSETTO:-0500
DTSTART:20251102T060000
TZNAME:EST
END:STANDARD
BEGIN:DAYLIGHT
TZOFFSETFROM:-0500
TZOFFSETTO:-0400
DTSTART:20260308T070000
TZNAME:EDT
END:DAYLIGHT
END:VTIMEZONE
BEGIN:VEVENT
SUMMARY:Turn Your Experience Into a Scalable Consulting Business
DESCRIPTION:If you’ve built skills in leadership\, recruiting\, coachi
 ng\, sales\, franchising\, or business ownership\, this webinar will sho
 w you how those strengths can translate into a serious consulting career
 . Learn how franchise consultants create value\, how the business model 
 works\, and why the right structure can turn your experience into a more
  scalable future.&nbsp\;
URL;VALUE=URI:https://franchiseti.com/events/turn-your-experience-into-a
 -scalable-consulting-business/
UID:urn:uuid:c9b8d61b-bada-4b31-859a-8f9eff07b71f
STATUS:CONFIRMED
ORGANIZER:
DTSTAMP:20260421T114153Z
DTSTART;TZID=America/New_York:20260408T180000
DTEND;TZID=America/New_York:20260408T180000
END:VEVENT
END:VCALENDAR