BEGIN:VCALENDAR
METHOD:PUBLISH
VERSION:2.0
CALSCALE:GREGORIAN
PRODID:-//NONSGML Sandhills Development\, LLC//NONSGML Sugar Calendar Fe
 eds v3.6.1//EN
X-WR-CALNAME:The Hidden Opportunity: Franchise Consulting
X-WR-CALDESC:Franchise Training Institute
X-WR-TIMEZONE:America/New_York
BEGIN:VTIMEZONE
TZID:America/New_York
BEGIN:STANDARD
TZOFFSETFROM:-0400
TZOFFSETTO:-0500
DTSTART:20251102T060000
TZNAME:EST
END:STANDARD
BEGIN:DAYLIGHT
TZOFFSETFROM:-0500
TZOFFSETTO:-0400
DTSTART:20260308T070000
TZNAME:EDT
END:DAYLIGHT
END:VTIMEZONE
BEGIN:VTIMEZONE
TZID:America/New_York
BEGIN:STANDARD
TZOFFSETFROM:-0400
TZOFFSETTO:-0500
DTSTART:20251102T060000
TZNAME:EST
END:STANDARD
BEGIN:DAYLIGHT
TZOFFSETFROM:-0500
TZOFFSETTO:-0400
DTSTART:20260308T070000
TZNAME:EDT
END:DAYLIGHT
END:VTIMEZONE
BEGIN:VEVENT
SUMMARY:The Hidden Opportunity: Franchise Consulting
DESCRIPTION:&nbsp\;Franchise Consulting\, the career can move you beyond
  working harder for a paycheck and toward a flexible\, wealth building f
 uture&nbsp\;
URL;VALUE=URI:https://franchiseti.com/events/the-hidden-opportunity-fran
 chise-consulting/
UID:urn:uuid:927e1832-9b51-41bf-b940-12058f1a3619
STATUS:CONFIRMED
ORGANIZER:
DTSTAMP:20260421T113902Z
DTSTART;TZID=America/New_York:20260331T180000
DTEND;TZID=America/New_York:20260331T190000
END:VEVENT
END:VCALENDAR