BEGIN:VCALENDAR
METHOD:PUBLISH
VERSION:2.0
CALSCALE:GREGORIAN
PRODID:-//NONSGML Sandhills Development\, LLC//NONSGML Sugar Calendar Fe
 eds v3.6.1//EN
X-WR-CALNAME:The Business Engine Behind Franchising: Where Franchise Con
 sultants Fit In
X-WR-CALDESC:Franchise Training Institute
X-WR-TIMEZONE:America/New_York
BEGIN:VTIMEZONE
TZID:America/New_York
BEGIN:STANDARD
TZOFFSETFROM:-0400
TZOFFSETTO:-0500
DTSTART:20251102T060000
TZNAME:EST
END:STANDARD
BEGIN:DAYLIGHT
TZOFFSETFROM:-0500
TZOFFSETTO:-0400
DTSTART:20260308T070000
TZNAME:EDT
END:DAYLIGHT
END:VTIMEZONE
BEGIN:VTIMEZONE
TZID:America/New_York
BEGIN:STANDARD
TZOFFSETFROM:-0400
TZOFFSETTO:-0500
DTSTART:20251102T060000
TZNAME:EST
END:STANDARD
BEGIN:DAYLIGHT
TZOFFSETFROM:-0500
TZOFFSETTO:-0400
DTSTART:20260308T070000
TZNAME:EDT
END:DAYLIGHT
END:VTIMEZONE
BEGIN:VEVENT
SUMMARY:The Business Engine Behind Franchising: Where Franchise Consulta
 nts Fit In
DESCRIPTION:Most people think franchising is just a handful of familiar 
 brands\, but they rarely see the business engine running underneath. In 
 this webinar\, you’ll learn how franchising actually works behind the 
 scenes\, why franchisors rely on well‑trained consultants\, and what r
 eally separates a strong franchise opportunity from a risky one.\nWe’l
 l walk through how franchise consultants support candidates\, how they u
 se research and due diligence to guide better decisions\, and why the ri
 ght structure and community matter so much if you decide to build a cons
 ulting business in this space.
URL;VALUE=URI:https://franchiseti.com/events/the-business-engine-behind-
 franchising-where-franchise-consultants-fit-in/
UID:urn:uuid:f0245628-7537-4414-b813-df4a7e7b0a7f
STATUS:CONFIRMED
ORGANIZER:
DTSTAMP:20260421T112146Z
DTSTART;TZID=America/New_York:20260415T180000
DTEND;TZID=America/New_York:20260415T193000
END:VEVENT
END:VCALENDAR